BEGIN:VCALENDAR
VERSION:2.0
PRODID:-//THD Veranstaltungen//th-deg.de//DE
CALSCALE:GREGORIAN
BEGIN:VEVENT
DTSTART:20260528T180000
DTEND:20260528T200000
LOCATION:Foyer der Mehrzweckhalle Kemnath, Badstraße 12, 95478 Kemnath 
DTSTAMP:20260528T180000
SUMMARY:Innovationsforum in Kemnath
DESCRIPTION:<p>Themen:</p>

<ul>
	<li>Mensch &amp; Maschine: Werden Sie zum Mastermind der neuen Wirtschaft</li>
	<li>Vorstellung des Intrapreneurship-Programms</li>
</ul>

<p>Anmeldungslink folgt.</p>

UID:fd3289cb75e2af707c969403c7c7d593@th-deg.de
END:VEVENT
END:VCALENDAR