BEGIN:VCALENDAR
VERSION:2.0
PRODID:-//THD Veranstaltungen//th-deg.de//DE
CALSCALE:GREGORIAN
BEGIN:VEVENT
DTSTART:20250519T180000
DTEND:20250519T200000
LOCATION:Glasbau e.V. Pfarrkirchen
DTSTAMP:20250519T180000
SUMMARY:KULTURCafé
DESCRIPTION:<p>Let’s get together!<br />
Everyone interested in other cultures is invited to join the KULTURcafé!<br />
We welcome students, staff as well as citizens of Pfarrkirchen...</p>

UID:43128520b731936d03d9e1d38b942a0e@th-deg.de
END:VEVENT
END:VCALENDAR