BEGIN:VCALENDAR
VERSION:2.0
PRODID:-//THD Veranstaltungen//th-deg.de//DE
CALSCALE:GREGORIAN
BEGIN:VEVENT
DTSTART:20250114T203000
DTEND:20250114T220000
LOCATION:Medienatelier J 007 Campus Deggendorf
DTSTAMP:20250114T203000
SUMMARY:Aufführung der THD-Theatergruppe: "Ein Pfund abheben"
DESCRIPTION:<p>Die THD-Theatergruppe präsentiert am Dienstag, 14. Januar 2025 um 20:30 Uhr im Medienatelier J 007 am Campus Deggendorf das Stück "<strong>Ein Pfund abheben</strong>".<br />
<br />
<strong>Regie:&nbsp;</strong>Peter Glotz<br />
<br />
<strong>Mitwirkende</strong>: Oguzhan Akceylan, Hannae Jun, Hannah Lorenz, Eros Sahiti und Finn Strehlke<br />
<br />
<strong>Inhaltsangabe:&nbsp;</strong>Es sollte ein so ruhiger früher Sonnenabend in einer kleinen Postbank werden. Wäre da nicht eine resolute Dame, die einen Brief ins nirgendwo schicken möchte, ein völlig betrunkener Arbeiter, der den Streit sucht und sein Kollege, der bemüht einfach nur eine Kleinigkeit erledigen möchte: Ein Pfund abheben.<br />
<br />
Eintritt frei!</p>

UID:c6f68413fab4abe79eae9c2366e7a1c0@th-deg.de
END:VEVENT
END:VCALENDAR